BEGIN:VCALENDAR
VERSION:2.0
PRODID:-//Agenda do Vinho - ECPv4.9.0//NONSGML v1.0//EN
CALSCALE:GREGORIAN
METHOD:PUBLISH
X-WR-CALNAME:Agenda do Vinho
X-ORIGINAL-URL:https://agendadovinho.com.br
X-WR-CALDESC:Eventos para Agenda do Vinho
BEGIN:VEVENT
DTSTART;TZID=America/Sao_Paulo:20200328T160000
DTEND;TZID=America/Sao_Paulo:20200328T160000
DTSTAMP:20260425T183513
CREATED:20200305T153250Z
LAST-MODIFIED:20200305T153250Z
UID:11832-1585411200-1585411200@agendadovinho.com.br
SUMMARY:ACADEMIA DO ESPUMANTE - VINÍCOLA CASA PERINI
DESCRIPTION:Espumante é\, com certeza\, a bebida que mais combina com celebrações. O que pode ser melhor\nque uma taça da bebida para coroar o ponto alto de uma comemoração? O brinde é muito mais\nque o simples ato de aproximar as taças\, envolve o simbolismo do desejo de felicidade para todos\nque estão celebrando. A Casa Perini oferece opções de espumantes para todos os gostos\, para\nvocê se encantar com a bebida de borbulhas. \nA próxima edição da Academia do Espumante irá ocorrer no dia 28 de março de 2020 na sede da\nCasa Perini em Farroupilha. O curso propõe trazer conhecimento e prática de forma leve. O\nuniverso do espumante será abordado desde a vinificação até a degustação e o serviço da bebida.\nA proposta do evento é facilitar o dia a dia do consumo de espumantes: aprender a avaliar cor\,\naroma e sabor\, a harmonizar e a fazer o serviço do espumante – armazenamento\, abertura\, taças\nmais adequadas para degustar\, entre outros. \nAo final do curso\, é servido um jantar harmonizado na Taverna Casa Perini. O menu foi\ndesenvolvido por Maria do Carmo Perini\, sócia da vinícola\, e oferece pratos no melhor estilo\ncomfort food\, inspirados na gastronomia italiana. Os pratos são servidos com os melhores vinhos e\nespumantes da casa\, aliando aromas e sabores. \nInscreva-se pelo e-mail cursos@casaperini.com.br ou pelo telefone (54) 2109-7300. \n
URL:https://agendadovinho.com.br/event/academia-do-espumante-vinicola-casa-perini/
LOCATION:Casa Perini\, Próximo a Igreja de Santos Anjos\, s/n. Santos Anjos Santos Anjos\, Farroupilha\, RS\, 95170-971\, Brasil
CATEGORIES:Curso técnico,RS - Demais cidades
ATTACH;FMTTYPE=image/jpeg:https://agendadovinho.com.br/wp-content/uploads/2020/03/academia-do-espumante_280320.jpg
END:VEVENT
END:VCALENDAR