BEGIN:VCALENDAR
VERSION:2.0
PRODID:-//Agenda do Vinho - ECPv4.9.0//NONSGML v1.0//EN
CALSCALE:GREGORIAN
METHOD:PUBLISH
X-WR-CALNAME:Agenda do Vinho
X-ORIGINAL-URL:https://agendadovinho.com.br
X-WR-CALDESC:Eventos para Agenda do Vinho
BEGIN:VEVENT
DTSTART;TZID=America/Sao_Paulo:20200806T190000
DTEND;TZID=America/Sao_Paulo:20200806T190000
DTSTAMP:20260425T214859
CREATED:20200806T153536Z
LAST-MODIFIED:20200806T153536Z
UID:15511-1596740400-1596740400@agendadovinho.com.br
SUMMARY:A Zahil e as mudanças no mercado do vinho
DESCRIPTION:06/ago – 19:00 \n
URL:https://agendadovinho.com.br/event/a-zahil-e-as-mudancas-no-mercado-do-vinho/
LOCATION:Instagram
CATEGORIES:Curso técnico,Online
ATTACH;FMTTYPE=image/jpeg:https://agendadovinho.com.br/wp-content/uploads/2020/08/abs_sp_060820.jpg
END:VEVENT
END:VCALENDAR