BEGIN:VCALENDAR
VERSION:2.0
PRODID:-//Agenda do Vinho - ECPv4.9.0//NONSGML v1.0//EN
CALSCALE:GREGORIAN
METHOD:PUBLISH
X-WR-CALNAME:Agenda do Vinho
X-ORIGINAL-URL:https://agendadovinho.com.br
X-WR-CALDESC:Eventos para Agenda do Vinho
BEGIN:VEVENT
DTSTART;TZID=America/Sao_Paulo:20200511T113000
DTEND;TZID=America/Sao_Paulo:20200511T113000
DTSTAMP:20260426T022835
CREATED:20200511T142641Z
LAST-MODIFIED:20200511T142641Z
UID:13321-1589196600-1589196600@agendadovinho.com.br
SUMMARY:A Pró-Vinho e a semana do vinho
DESCRIPTION:11/05 – 11:30 \n
URL:https://agendadovinho.com.br/event/a-pro-vinho-e-a-semana-do-vinho/
LOCATION:Instagram
CATEGORIES:Curso técnico,Online
ATTACH;FMTTYPE=image/jpeg:https://agendadovinho.com.br/wp-content/uploads/2020/05/pro_vinho.br_110520.jpg
END:VEVENT
END:VCALENDAR