BEGIN:VCALENDAR
VERSION:2.0
PRODID:-//Agenda do Vinho - ECPv4.9.0//NONSGML v1.0//EN
CALSCALE:GREGORIAN
METHOD:PUBLISH
X-WR-CALNAME:Agenda do Vinho
X-ORIGINAL-URL:https://agendadovinho.com.br
X-WR-CALDESC:Eventos para Agenda do Vinho
BEGIN:VEVENT
DTSTART;TZID=America/Sao_Paulo:20200624T170000
DTEND;TZID=America/Sao_Paulo:20200624T170000
DTSTAMP:20260425T133351
CREATED:20200624T161558Z
LAST-MODIFIED:20200624T161558Z
UID:14512-1593018000-1593018000@agendadovinho.com.br
SUMMARY:A Pró-Vinho: conhecendo a entidade e a campanha Vem Pro Vinho
DESCRIPTION:24/06 – 17h \n
URL:https://agendadovinho.com.br/event/a-pro-vinho-conhecendo-a-entidade-e-a-campanha-vem-pro-vinho/
LOCATION:Youtube
CATEGORIES:Curso técnico,Online
ATTACH;FMTTYPE=image/jpeg:https://agendadovinho.com.br/wp-content/uploads/2020/06/vinhoemusicaclub_240620.jpg
END:VEVENT
END:VCALENDAR