BEGIN:VCALENDAR
VERSION:2.0
PRODID:-//Agenda do Vinho - ECPv4.9.0//NONSGML v1.0//EN
CALSCALE:GREGORIAN
METHOD:PUBLISH
X-WR-CALNAME:Agenda do Vinho
X-ORIGINAL-URL:https://agendadovinho.com.br
X-WR-CALDESC:Eventos para Agenda do Vinho
BEGIN:VEVENT
DTSTART;TZID=America/Sao_Paulo:20200307T163000
DTEND;TZID=America/Sao_Paulo:20200307T190000
DTSTAMP:20260425T201514
CREATED:20200227T215251Z
LAST-MODIFIED:20200227T215251Z
UID:11469-1583598600-1583607600@agendadovinho.com.br
SUMMARY:A Poesia do Vinho
DESCRIPTION:A poesia do vinho (poesias + bate papo + 2 taças de vinho + 3 ostras in natura) \nCom Débora Corn (poetisa\, escritora e sommelière) \nData 07/03 sábado das 16:30 às 19h \nVamos degustar os sabores\, sentir os aromas desta bebida de uma forma poética. Descobrir poemas e poetas do mundo do vinho em um bate papo descontraído. \nPoesias + Bate Papo\, harmonizando com 2 taças de vinho + 3 ostras in natura \n“Embriaga-te sem cessar\, de vinho\, de poesia ou de virtude.” Charles Baudelaire \n  \n
URL:https://agendadovinho.com.br/event/a-poesia-do-vinho/
LOCATION:Diô Wine Bar\, Av.Marechal Deodoro\, 686 Vila Urbana - container 14 - Centro\, Curitiba\, PR\, 80010-010\, Brasil
CATEGORIES:Degustação,PR - Curitiba
ATTACH;FMTTYPE=image/png:https://agendadovinho.com.br/wp-content/uploads/2020/02/Capa_evento_sympla.png
END:VEVENT
END:VCALENDAR