BEGIN:VCALENDAR
VERSION:2.0
PRODID:-//Agenda do Vinho - ECPv4.9.0//NONSGML v1.0//EN
CALSCALE:GREGORIAN
METHOD:PUBLISH
X-WR-CALNAME:Agenda do Vinho
X-ORIGINAL-URL:https://agendadovinho.com.br
X-WR-CALDESC:Eventos para Agenda do Vinho
BEGIN:VEVENT
DTSTART;TZID=America/Sao_Paulo:20201013T200000
DTEND;TZID=America/Sao_Paulo:20201013T200000
DTSTAMP:20260423T062929
CREATED:20201013T134851Z
LAST-MODIFIED:20201013T134902Z
UID:16189-1602619200-1602619200@agendadovinho.com.br
SUMMARY:A IP Vales da Uva Goethe
DESCRIPTION:13/out – 20:00 \n
URL:https://agendadovinho.com.br/event/a-ip-vale-da-uva-goethe/
LOCATION:Instagram
CATEGORIES:Curso técnico,Online
ATTACH;FMTTYPE=image/jpeg:https://agendadovinho.com.br/wp-content/uploads/2020/10/thewineschoolbrasil_131020.jpg
END:VEVENT
END:VCALENDAR