BEGIN:VCALENDAR
VERSION:2.0
PRODID:-//Agenda do Vinho - ECPv4.9.0//NONSGML v1.0//EN
CALSCALE:GREGORIAN
METHOD:PUBLISH
X-WR-CALNAME:Agenda do Vinho
X-ORIGINAL-URL:https://agendadovinho.com.br
X-WR-CALDESC:Eventos para Agenda do Vinho
BEGIN:VEVENT
DTSTART;TZID=America/Sao_Paulo:20200812T193000
DTEND;TZID=America/Sao_Paulo:20200812T193000
DTSTAMP:20260422T033457
CREATED:20200801T144626Z
LAST-MODIFIED:20200801T144626Z
UID:15424-1597260600-1597260600@agendadovinho.com.br
SUMMARY:A força do vinho australiano
DESCRIPTION:12/ago – 19:30 \n
URL:https://agendadovinho.com.br/event/a-forca-do-vinho-australiano/
LOCATION:Youtube
CATEGORIES:Curso técnico,Online
ATTACH;FMTTYPE=image/jpeg:https://agendadovinho.com.br/wp-content/uploads/2020/08/uvinovinhos_120820.jpg
END:VEVENT
END:VCALENDAR