BEGIN:VCALENDAR
VERSION:2.0
PRODID:-//Agenda do Vinho - ECPv4.9.0//NONSGML v1.0//EN
CALSCALE:GREGORIAN
METHOD:PUBLISH
X-WR-CALNAME:Agenda do Vinho
X-ORIGINAL-URL:https://agendadovinho.com.br
X-WR-CALDESC:Eventos para Agenda do Vinho
BEGIN:VEVENT
DTSTART;TZID=America/Sao_Paulo:20200806T170000
DTEND;TZID=America/Sao_Paulo:20200806T170000
DTSTAMP:20260425T183430
CREATED:20200806T153451Z
LAST-MODIFIED:20200806T153451Z
UID:15510-1596733200-1596733200@agendadovinho.com.br
SUMMARY:A evolução do vinho no Brasil
DESCRIPTION:06/ago – 17:00 \n
URL:https://agendadovinho.com.br/event/a-evolucao-do-vinho-no-brasil/
LOCATION:Instagram
CATEGORIES:Curso técnico,Online
ATTACH;FMTTYPE=image/jpeg:https://agendadovinho.com.br/wp-content/uploads/2020/08/pro_vinho_br_060820.jpg
END:VEVENT
END:VCALENDAR