BEGIN:VCALENDAR
VERSION:2.0
PRODID:-//Agenda do Vinho - ECPv4.9.0//NONSGML v1.0//EN
CALSCALE:GREGORIAN
METHOD:PUBLISH
X-WR-CALNAME:Agenda do Vinho
X-ORIGINAL-URL:https://agendadovinho.com.br
X-WR-CALDESC:Eventos para Agenda do Vinho
BEGIN:VEVENT
DTSTART;TZID=America/Sao_Paulo:20200313T200000
DTEND;TZID=America/Sao_Paulo:20200313T230000
DTSTAMP:20260425T214611
CREATED:20200310T153138Z
LAST-MODIFIED:20200310T153138Z
UID:11989-1584129600-1584140400@agendadovinho.com.br
SUMMARY:A divertida arte de harmonizar!
DESCRIPTION:Capricha no tempero Chef! \nO Chef Carlos Ribeiro nas panelas e Ana de Andrade nas taças\, vão mostrar que pode ser muito divertido  harmonizar pratos mais especiados. \n\, Couvert \nWelcome drink \n\, Entrada: Caldinho de sururu \nVinho âmbar Rustavelli\, Geórgia \n\, Prato principal: Malub \nArroz árabe\, com berinjela\, carne e especiarias \nFrappato\, Sicilia \nBogle Old Vines Zinfandel\, Califórnia \n. Sobremesa: Canolli \n
URL:https://agendadovinho.com.br/event/a-divertida-arte-de-harmonizar/
LOCATION:Wine Body\, Rua Oscar Freire 540 - loja 4 - Jardins\, São Paulo\, SP\, 01426-000\, Brasil
CATEGORIES:Jantar harmonizado,SP - São Paulo
ATTACH;FMTTYPE=image/jpeg:https://agendadovinho.com.br/wp-content/uploads/2020/03/A-divertida-arte-de-harmonizar.jpg
END:VEVENT
END:VCALENDAR