BEGIN:VCALENDAR
VERSION:2.0
PRODID:-//Agenda do Vinho - ECPv4.9.0//NONSGML v1.0//EN
CALSCALE:GREGORIAN
METHOD:PUBLISH
X-WR-CALNAME:Agenda do Vinho
X-ORIGINAL-URL:https://agendadovinho.com.br
X-WR-CALDESC:Eventos para Agenda do Vinho
BEGIN:VEVENT
DTSTART;TZID=America/Sao_Paulo:20201001T180000
DTEND;TZID=America/Sao_Paulo:20201001T180000
DTSTAMP:20260423T080521
CREATED:20201001T152719Z
LAST-MODIFIED:20201001T152719Z
UID:16101-1601575200-1601575200@agendadovinho.com.br
SUMMARY:A diferença entre vinhos orgânicos\, biodinâmicos e naturais
DESCRIPTION:01/out – 18:00 \n
URL:https://agendadovinho.com.br/event/a-diferenca-entre-vinhos-organicos-biodinamicos-e-naturais/
LOCATION:Instagram
CATEGORIES:Curso técnico,Online
ATTACH;FMTTYPE=image/jpeg:https://agendadovinho.com.br/wp-content/uploads/2020/10/pro_vinho_br_011020.jpg
END:VEVENT
END:VCALENDAR