BEGIN:VCALENDAR
VERSION:2.0
PRODID:-//Agenda do Vinho - ECPv4.9.0//NONSGML v1.0//EN
CALSCALE:GREGORIAN
METHOD:PUBLISH
X-WR-CALNAME:Agenda do Vinho
X-ORIGINAL-URL:https://agendadovinho.com.br
X-WR-CALDESC:Eventos para Agenda do Vinho
BEGIN:VEVENT
DTSTART;TZID=America/Sao_Paulo:20200415T200000
DTEND;TZID=America/Sao_Paulo:20200415T200000
DTSTAMP:20260426T041239
CREATED:20200414T151827Z
LAST-MODIFIED:20200414T151827Z
UID:12530-1586980800-1586980800@agendadovinho.com.br
SUMMARY:A barrica de carvalho e o vinho brasileiro
DESCRIPTION:@davinha_aovinho e Leandro Baena\, o @chorodavideira \, estarão de volta para mais uma live\, nesta quarta-feira\, 15/04\, às 20h. Continuarão o papo sobre os vinhos brasileiros\, dando um enfoque todo especial sobre o uso de barricas de carvalho no processo de vinificação dos nossos brazucas. Com madeira? Sem madeira? Existem regras? Qual a preferência do consumidor brasileiro? Tudo isso você vai descobrir nesta quarta\, aqui no Insta. Não perca!!! \n
URL:https://agendadovinho.com.br/event/a-barrica-de-carvalho-e-o-vinho-brasileiro/
LOCATION:Instagram
CATEGORIES:Curso técnico,Online
ATTACH;FMTTYPE=image/jpeg:https://agendadovinho.com.br/wp-content/uploads/2020/04/davinha_aovinho_150420_2.jpg
END:VEVENT
END:VCALENDAR