BEGIN:VCALENDAR
VERSION:2.0
PRODID:-//Agenda do Vinho - ECPv4.9.0//NONSGML v1.0//EN
CALSCALE:GREGORIAN
METHOD:PUBLISH
X-WR-CALNAME:Agenda do Vinho
X-ORIGINAL-URL:https://agendadovinho.com.br
X-WR-CALDESC:Eventos para Agenda do Vinho
BEGIN:VEVENT
DTSTART;TZID=America/Sao_Paulo:20200709T163000
DTEND;TZID=America/Sao_Paulo:20200709T163000
DTSTAMP:20260425T153259
CREATED:20200709T144655Z
LAST-MODIFIED:20200709T151412Z
UID:14880-1594312200-1594312200@agendadovinho.com.br
SUMMARY:A água faz diferença na degustação de vinhos?
DESCRIPTION:09/jul – 16:30 \n
URL:https://agendadovinho.com.br/event/a-agua-faz-diferenca-na-degustacao-de-vinhos/
LOCATION:Youtube
CATEGORIES:Curso técnico,Online
ATTACH;FMTTYPE=image/jpeg:https://agendadovinho.com.br/wp-content/uploads/2020/07/thewineschoolbrasil_090720.jpg
END:VEVENT
END:VCALENDAR