BEGIN:VCALENDAR
VERSION:2.0
PRODID:-//Agenda do Vinho - ECPv4.9.0//NONSGML v1.0//EN
CALSCALE:GREGORIAN
METHOD:PUBLISH
X-WR-CALNAME:Agenda do Vinho
X-ORIGINAL-URL:https://agendadovinho.com.br
X-WR-CALDESC:Eventos para Agenda do Vinho
BEGIN:VEVENT
DTSTART;TZID=America/Sao_Paulo:20200207T190000
DTEND;TZID=America/Sao_Paulo:20200207T235900
DTSTAMP:20260425T183247
CREATED:20200203T181729Z
LAST-MODIFIED:20200203T181729Z
UID:11020-1581102000-1581119940@agendadovinho.com.br
SUMMARY:99+ OPEN BAR DE VINHO MIOLO
DESCRIPTION:Sexta-feira (07/fev)\, o GOA abre suas portas novamente para o projeto 99+ e agora conta com um inédito OPEN BAR DE VINHO assinado pela vinícola MIOLO das 19 horas até as 22:30. \nVinhos brancos\, tintos e rosés premiados nacionalmente e internacionalmente! \nAs fitas para participar do OPEN BAR são limitadas e numeradas\, e podem ser reservadas com antecedência. \nMasculino OPEN BAR DE VINHO MIOLO – R$59 \nFeminino OPEN BAR DE VINHO MIOLO – R$49 \nReserve a sua através do número 47 9 9966 0676. \nE muitas outras promoções gastrônomicas\, verifique os destaques do nosso perfil do instagram @goa.oficial. \nAqui no GOA suas sextas são estendidas. Com um clima de dining club inédito na cidade\, a música após o jantar tem o volume aumentado e a atmosfera da música eletrônica tomam conta da festa ao longo da noite. DJS de renome conduzem as noites de muita confraternização e azaração. \nGOA – arte & gastronomia \nImagine um lugar onde o essencial encontra o contemporâneo. Onde é possível integrar-se à natureza\, à arte e a todas as mais diversas formas de expressão. Um conjunto de elementos básicos\, para você se sentir vivo\, a qualquer hora do dia e qualquer momento. \nA casa terá suas portas abertas à partir das 19 horas. \nPara mais informações e reservas\, entre em contato através do 47 9 9966 0676 \n
URL:https://agendadovinho.com.br/event/99-open-bar-de-vinho-miolo/
LOCATION:GOA – Arte e Gastronomia\, R. Max Colin\, 1589 - América\, Joinville\, SC\, 89204-635\, Brasil
CATEGORIES:Degustação,SC - Demais cidades
ATTACH;FMTTYPE=image/png:https://agendadovinho.com.br/wp-content/uploads/2020/02/99_070220.png
END:VEVENT
END:VCALENDAR