BEGIN:VCALENDAR
VERSION:2.0
PRODID:-//Agenda do Vinho - ECPv4.9.0//NONSGML v1.0//EN
CALSCALE:GREGORIAN
METHOD:PUBLISH
X-WR-CALNAME:Agenda do Vinho
X-ORIGINAL-URL:https://agendadovinho.com.br
X-WR-CALDESC:Eventos para Agenda do Vinho
BEGIN:VEVENT
DTSTART;TZID=America/Sao_Paulo:20191123T193000
DTEND;TZID=America/Sao_Paulo:20191123T193000
DTSTAMP:20260426T030210
CREATED:20191120T160911Z
LAST-MODIFIED:20191120T160911Z
UID:9817-1574537400-1574537400@agendadovinho.com.br
SUMMARY:7º WINE DAY
DESCRIPTION:7º WINE DAY – Feira e Degustação de Vinhos e Espumantes!🍷\n⠀\n📞Mais informações: (11) 3652-5440 (consultar Cris/Leila) \n
URL:https://agendadovinho.com.br/event/7o-wine-day/
LOCATION:Central Osasco\, Av. Maria Campos\, 190 - Centro\, Osasco\, SP\, 06010-060
CATEGORIES:Degustação,SP - Demais cidades
ATTACH;FMTTYPE=image/jpeg:https://agendadovinho.com.br/wp-content/uploads/2019/11/wine-day_231119.jpg
END:VEVENT
END:VCALENDAR