BEGIN:VCALENDAR
VERSION:2.0
PRODID:-//Agenda do Vinho - ECPv4.9.0//NONSGML v1.0//EN
CALSCALE:GREGORIAN
METHOD:PUBLISH
X-WR-CALNAME:Agenda do Vinho
X-ORIGINAL-URL:https://agendadovinho.com.br
X-WR-CALDESC:Eventos para Agenda do Vinho
BEGIN:VEVENT
DTSTART;TZID=America/Sao_Paulo:20240313T180000
DTEND;TZID=America/Sao_Paulo:20240313T220000
DTSTAMP:20260420T120216
CREATED:20240222T142502Z
LAST-MODIFIED:20240222T142502Z
UID:19320-1710352800-1710367200@agendadovinho.com.br
SUMMARY:4ª Wine Day - Feira de Vinhos
DESCRIPTION:
URL:https://agendadovinho.com.br/event/4a-wine-day-feira-de-vinhos/
LOCATION:Loja CAB Recife\, R. Virgínia Lorêto\, 63 - Parnamirim\, Recife\, PE\, 52060-370\, Brasil
CATEGORIES:Degustação,PE - Recife
ATTACH;FMTTYPE=image/jpeg:https://agendadovinho.com.br/wp-content/uploads/2024/02/4-wine-day_130324.jpg
END:VEVENT
END:VCALENDAR