BEGIN:VCALENDAR
VERSION:2.0
PRODID:-//Agenda do Vinho - ECPv4.9.0//NONSGML v1.0//EN
CALSCALE:GREGORIAN
METHOD:PUBLISH
X-WR-CALNAME:Agenda do Vinho
X-ORIGINAL-URL:https://agendadovinho.com.br
X-WR-CALDESC:Eventos para Agenda do Vinho
BEGIN:VEVENT
DTSTART;TZID=America/Sao_Paulo:20240425T200000
DTEND;TZID=America/Sao_Paulo:20240425T230000
DTSTAMP:20260420T132242
CREATED:20240409T170041Z
LAST-MODIFIED:20240409T170041Z
UID:19817-1714075200-1714086000@agendadovinho.com.br
SUMMARY:3° Degustação de Vinhos Volpi Wine Bar
DESCRIPTION:
URL:https://agendadovinho.com.br/event/3-degustacao-de-vinhos-volpi-wine-bar/
LOCATION:Volpi Wine Bar\, Av. Comendador Pedro Morganti\, 4965 - Ap 05 - Monte Alegre\, Piracicaba\, SP\, 13415-000\, Brasil
CATEGORIES:Degustação,SP - Demais cidades
ATTACH;FMTTYPE=image/png:https://agendadovinho.com.br/wp-content/uploads/2024/04/3-degustacao-de-vinhos-volpi-wine-bar_250424.png
END:VEVENT
END:VCALENDAR