BEGIN:VCALENDAR
VERSION:2.0
PRODID:-//Agenda do Vinho - ECPv4.9.0//NONSGML v1.0//EN
CALSCALE:GREGORIAN
METHOD:PUBLISH
X-WR-CALNAME:Agenda do Vinho
X-ORIGINAL-URL:https://agendadovinho.com.br
X-WR-CALDESC:Eventos para Agenda do Vinho
BEGIN:VEVENT
DTSTART;TZID=America/Sao_Paulo:20240313T183000
DTEND;TZID=America/Sao_Paulo:20240313T183000
DTSTAMP:20260420T132104
CREATED:20240227T153955Z
LAST-MODIFIED:20240227T153955Z
UID:19424-1710354600-1710354600@agendadovinho.com.br
SUMMARY:1ª Feira do Vinho
DESCRIPTION:
URL:https://agendadovinho.com.br/event/1a-feira-do-vinho/
LOCATION:Laticínios São José JK\, Av. Pres. Juscelino K. de Oliveira\, 3670 - Jardim Moyses Miguel Haddad\, São José do Rio Preto\, SP\, 15093-225\, Brasil
CATEGORIES:Degustação,SP - Demais cidades
ATTACH;FMTTYPE=image/jpeg:https://agendadovinho.com.br/wp-content/uploads/2024/02/1-feira-do-vinho_130324.jpg
END:VEVENT
END:VCALENDAR