BEGIN:VCALENDAR
VERSION:2.0
PRODID:-//Agenda do Vinho - ECPv4.9.0//NONSGML v1.0//EN
CALSCALE:GREGORIAN
METHOD:PUBLISH
X-WR-CALNAME:Agenda do Vinho
X-ORIGINAL-URL:https://agendadovinho.com.br
X-WR-CALDESC:Eventos para Agenda do Vinho
BEGIN:VEVENT
DTSTART;TZID=America/Sao_Paulo:20200620T190000
DTEND;TZID=America/Sao_Paulo:20200620T190000
DTSTAMP:20260426T005434
CREATED:20200615T161233Z
LAST-MODIFIED:20200615T161233Z
UID:14227-1592679600-1592679600@agendadovinho.com.br
SUMMARY:1° Encontro da Confraria ViajeinoVinho Porto Alegre e Bento Gonçalves
DESCRIPTION:20/06 – 19h \n
URL:https://agendadovinho.com.br/event/1-encontro-da-confraria-viajeinovinho-porto-alegre-e-bento-goncalves/
LOCATION:Vídeo conferência
CATEGORIES:Online,Outros
ATTACH;FMTTYPE=image/jpeg:https://agendadovinho.com.br/wp-content/uploads/2020/06/duvalewinetasting_200620.jpg
END:VEVENT
END:VCALENDAR